BEGIN:VCALENDAR
VERSION:2.0
PRODID:-//Welcome - ECPv6.15.20//NONSGML v1.0//EN
CALSCALE:GREGORIAN
METHOD:PUBLISH
X-WR-CALNAME:Welcome
X-ORIGINAL-URL:https://nevadapreservation.org
X-WR-CALDESC:Events for Welcome
REFRESH-INTERVAL;VALUE=DURATION:PT1H
X-Robots-Tag:noindex
X-PUBLISHED-TTL:PT1H
BEGIN:VTIMEZONE
TZID:America/Los_Angeles
BEGIN:DAYLIGHT
TZOFFSETFROM:-0800
TZOFFSETTO:-0700
TZNAME:PDT
DTSTART:20240310T100000
END:DAYLIGHT
BEGIN:STANDARD
TZOFFSETFROM:-0700
TZOFFSETTO:-0800
TZNAME:PST
DTSTART:20241103T090000
END:STANDARD
BEGIN:DAYLIGHT
TZOFFSETFROM:-0800
TZOFFSETTO:-0700
TZNAME:PDT
DTSTART:20250309T100000
END:DAYLIGHT
BEGIN:STANDARD
TZOFFSETFROM:-0700
TZOFFSETTO:-0800
TZNAME:PST
DTSTART:20251102T090000
END:STANDARD
BEGIN:DAYLIGHT
TZOFFSETFROM:-0800
TZOFFSETTO:-0700
TZNAME:PDT
DTSTART:20260308T100000
END:DAYLIGHT
BEGIN:STANDARD
TZOFFSETFROM:-0700
TZOFFSETTO:-0800
TZNAME:PST
DTSTART:20261101T090000
END:STANDARD
BEGIN:DAYLIGHT
TZOFFSETFROM:-0800
TZOFFSETTO:-0700
TZNAME:PDT
DTSTART:20270314T100000
END:DAYLIGHT
BEGIN:STANDARD
TZOFFSETFROM:-0700
TZOFFSETTO:-0800
TZNAME:PST
DTSTART:20271107T090000
END:STANDARD
END:VTIMEZONE
BEGIN:VEVENT
DTSTART;TZID=America/Los_Angeles:20260416T170000
DTEND;TZID=America/Los_Angeles:20260416T190000
DTSTAMP:20260424T145404
CREATED:20260307T184401Z
LAST-MODIFIED:20260307T185418Z
UID:15598-1776358800-1776366000@nevadapreservation.org
SUMMARY:Designing a City: Irwin Molasky and the Making of Mid Century Modern Las Vegas
DESCRIPTION:With a career spanning seven decades\, real estate developer Irwin Molasky didn’t just build Las Vegas—he helped to define it.   Celebrate Molasky’s enduring legacy at the famed Morelli House\, built by Paradise Homes in 1959. Step inside this mid-century landmark\, enjoy light refreshments\, and learn about how the Molasky family has shaped the architecture and ethos of our city. Molasky’s many ventures include Boulevard Mall\, Commercial Center\, Paradise Palms\, Las Vegas Country Club\, and Black Mountain Estates. \nThe evening culminates in a dynamic panel with Irwin’s sons Alan and Steven and architectural historian Olivia Clemente who discuss what Las Vegas meant to Irwin Molasky and what Irwin Molasky means to Las Vegas. \nWhat’s included \n\n\n\nLight refreshments\, panel discussion\, entry into the Morelli House \n\nTICKETS
URL:https://nevadapreservation.org/calendar/designing-a-city-irwin-molasky-and-the-making-of-mid-century-modern-las-vegas/
LOCATION:Morelli House\, 861 East Bridger Avenue\, Las Vegas\, NV\, United States
CATEGORIES:Hear History,Special Home Tour
ATTACH;FMTTYPE=image/jpeg:https://nevadapreservation.org/wp-content/uploads/2026/03/Morelli_House_Fireplace_1.jpg
END:VEVENT
BEGIN:VEVENT
DTSTART;TZID=America/Los_Angeles:20251214T173000
DTEND;TZID=America/Los_Angeles:20251214T190000
DTSTAMP:20260424T145404
CREATED:20251118T011104Z
LAST-MODIFIED:20251204T182421Z
UID:12090-1765733400-1765738800@nevadapreservation.org
SUMMARY:Cocktails & True Tales: An Oral History Happy Hour HOLIDAY EDITION
DESCRIPTION:Our Cocktails & True Tales series continues with a special seasonal edition where we’ll shake up Las Vegas history with firsthand memories and a cup of good cheer!! \nIn December\, we’re getting festive for the season and remembering celebrating the holidays in Vegas. Your ticket includes one complimentary drink\, and Happy Hour food and cocktails will be available for purchase. \nWe’ll end the night with an open mic—so bring your best seasonal Vegas memory to share—then stick around for cocktails\, conversation\, and community. \nBalkan Bar and Grill \n953 E Sahara Ave Suite B-26\,\nLas Vegas\, NV 89104 \n\n\n\nWhat’s included\n\n1- hour oral history happy hour \nOne drink with ticket purchase. \nPhoto: Las Vegas News Bureau Collection\, LVCVA Archive.
URL:https://nevadapreservation.org/calendar/cocktails-true-tales-an-oral-history-happy-hour-holiday-edition/
LOCATION:Balkan Bar And Grill\, 953 E Sahara Ave Suite B-26\, Las Vegas\, NV\, 89104\, United States
CATEGORIES:Hear History
ATTACH;FMTTYPE=image/jpeg:https://nevadapreservation.org/wp-content/uploads/2025/11/7475-scaled.jpg
END:VEVENT
BEGIN:VEVENT
DTSTART;TZID=America/Los_Angeles:20250627T173000
DTEND;TZID=America/Los_Angeles:20250627T193000
DTSTAMP:20260424T145404
CREATED:20250513T190532Z
LAST-MODIFIED:20250513T191858Z
UID:9648-1751045400-1751052600@nevadapreservation.org
SUMMARY:Oral History Happy Hour: Growing Up in Las Vegas
DESCRIPTION:
URL:https://nevadapreservation.org/calendar/oral-history-happy-hour-growing-up-in-las-vegas/
LOCATION:Composer’s Room\, 953 E Sahara Ave\, Unit E1A\, Las Vegas\, NV\, 89109
CATEGORIES:Hear History
END:VEVENT
BEGIN:VEVENT
DTSTART;TZID=America/Los_Angeles:20250221T170000
DTEND;TZID=America/Los_Angeles:20250221T183000
DTSTAMP:20260424T145404
CREATED:20240920T220721Z
LAST-MODIFIED:20250216T202247Z
UID:7420-1740157200-1740162600@nevadapreservation.org
SUMMARY:Cocktails & True Tales: An Oral History Happy Hour
DESCRIPTION:The best stories of Vegas past comes from the people who lived them. Join us for the first installment of our new series “Cocktails and True Tales” where we mix the history of our city’s storied past with scintillating stories from the people who were there. \nOur guests this month will be discussing “Commercial Center.” Commercial Center was once Las Vegas’s most popular shopping destination bustling with some of the most iconic local spots in town. \nYour ticket includes one complimentary drink and additional Happy Hour Food & Cocktails will be available to purchase. The evening will wrap up with an open mic\, inviting you to share your own memories\, followed by cocktails and mingling. \nThe Composer’s Room Happy Hour starts at 3pm so feel free to arrive early! Check in for Nevada Preservation Foundation’s event will begin at 5 pm. \n\n\n\nWhat’s included\n\n1- hour oral history happy hour \nOne drink with ticket purchase.
URL:https://nevadapreservation.org/calendar/oral-history-happy-hour-2/
LOCATION:Composer’s Room\, 953 E Sahara Ave\, Unit E1A\, Las Vegas\, NV\, 89109
CATEGORIES:Hear History
ATTACH;FMTTYPE=image/jpeg:https://nevadapreservation.org/wp-content/uploads/2024/09/lava-house-party-31_retouch.jpg
END:VEVENT
BEGIN:VEVENT
DTSTART;TZID=America/Los_Angeles:20250128T183000
DTEND;TZID=America/Los_Angeles:20250128T200000
DTSTAMP:20260424T145404
CREATED:20240920T203138Z
LAST-MODIFIED:20250113T222043Z
UID:7403-1738089000-1738094400@nevadapreservation.org
SUMMARY:Zick and Sharp: Making the Ordinary Extraordinary
DESCRIPTION:Join the Nevada Preservation Foundation for our monthly program celebrating Walter Zick and Harris Sharp\, two visionary architects who shaped mid-20th century Las Vegas. From iconic “circle” schools to stunning banks\, hotels\, and homes\, their designs reflected the influential styles of the era\, yet they are often underappreciated compared to other well-known architects of the city. \nDive into their inspiring story\, explore their enduring impact on the city\, and experience an opportunity to walk through an extraordinary circle school—an architectural marvel that brings their legacy to life.
URL:https://nevadapreservation.org/calendar/zick-and-sharp-talk/
LOCATION:Orr Middle School\, Las Vegas\, NV\, United States
CATEGORIES:Hear History
ATTACH;FMTTYPE=image/jpeg:https://nevadapreservation.org/wp-content/uploads/2024/09/00890-Orr-MS-Feb-1969-scaled.jpg
END:VEVENT
END:VCALENDAR