BEGIN:VCALENDAR
VERSION:2.0
PRODID:-//Welcome - ECPv6.15.20//NONSGML v1.0//EN
CALSCALE:GREGORIAN
METHOD:PUBLISH
X-ORIGINAL-URL:https://nevadapreservation.org
X-WR-CALDESC:Events for Welcome
REFRESH-INTERVAL;VALUE=DURATION:PT1H
X-Robots-Tag:noindex
X-PUBLISHED-TTL:PT1H
BEGIN:VTIMEZONE
TZID:America/Los_Angeles
BEGIN:DAYLIGHT
TZOFFSETFROM:-0800
TZOFFSETTO:-0700
TZNAME:PDT
DTSTART:20250309T100000
END:DAYLIGHT
BEGIN:STANDARD
TZOFFSETFROM:-0700
TZOFFSETTO:-0800
TZNAME:PST
DTSTART:20251102T090000
END:STANDARD
BEGIN:DAYLIGHT
TZOFFSETFROM:-0800
TZOFFSETTO:-0700
TZNAME:PDT
DTSTART:20260308T100000
END:DAYLIGHT
BEGIN:STANDARD
TZOFFSETFROM:-0700
TZOFFSETTO:-0800
TZNAME:PST
DTSTART:20261101T090000
END:STANDARD
BEGIN:DAYLIGHT
TZOFFSETFROM:-0800
TZOFFSETTO:-0700
TZNAME:PDT
DTSTART:20270314T100000
END:DAYLIGHT
BEGIN:STANDARD
TZOFFSETFROM:-0700
TZOFFSETTO:-0800
TZNAME:PST
DTSTART:20271107T090000
END:STANDARD
END:VTIMEZONE
BEGIN:VEVENT
DTSTART;TZID=America/Los_Angeles:20260415T183000
DTEND;TZID=America/Los_Angeles:20260415T213000
DTSTAMP:20260424T140018
CREATED:20260225T003702Z
LAST-MODIFIED:20260307T185041Z
UID:13814-1776277800-1776288600@nevadapreservation.org
SUMMARY:Bootleggers In The Garden
DESCRIPTION:A Prohibition style evening of luxurious libations and culinary delights \n\n\nYou’ll need the password to meet us for this secret garden soiree under the stars… \nWe’re going back to the Jazz Age for a hotsy-totsy evening of bathtub libations and other fine delights in the garden of a rare 1930’s vintage Vegas residence. \nWith culinary delights and bites by 2026 Jame’s Beard Award Semi-Finalist Chef James Trees and Chef Todd Harrington along with the finest of “teas” by celebrated mixologist Jonah Gibbs of Bar Boheme and High Steaks this whimsical evening will be a “tea party” you’ will NEVER forget. \nIf you don’t know what to wear\, don your dandys and swanky beads\, your finest fits we’re Puttin’ on the Ritz. \nDress code: Jazz Age cocktail attire\, this event is in an outdoor garden setting which may have uneven terrain. We recommend wearing sensible shoes. \n\n\nTickets
URL:https://nevadapreservation.org/calendar/bootleggers-in-the-garden/
CATEGORIES:Cocktail Party,Retro Party
ATTACH;FMTTYPE=image/jpeg:https://nevadapreservation.org/wp-content/uploads/2026/02/Bootlegger_Social.jpg
END:VEVENT
BEGIN:VEVENT
DTSTART;TZID=America/Los_Angeles:20260214T180000
DTEND;TZID=America/Los_Angeles:20260214T220000
DTSTAMP:20260424T140018
CREATED:20251222T200957Z
LAST-MODIFIED:20251222T201436Z
UID:12944-1771092000-1771106400@nevadapreservation.org
SUMMARY:Sadie Hawkins Sock Hop
DESCRIPTION:Calling all dollies and greasers! Pull out your poodle skirts and slick back your pomps because we are about to hop! \nCruise on down to the historic Mesquite Club and celebrate Valentine’s Day with a classic Sadie Hawkin’s dance. We’ll keep you spinning around the dance floor all evening to the best tunes to get you to shake\, rattle and roll the night away. \nBut what is Valentine’s Day without a little sweet for your sweet? Break out your best Betty Crocker and enter your sweet confection into our Cake Contest! \nYou could win tickets to our next big bash.\nWinners will be decided by popular vote of attendees. \nDress to impress\, at the end of the night we will be awarding King & Queen of the Dance! \n\n\n\nWhat’s included\n\n-Entry into the dance \n-Punch and soft drinks on us. Any “upgrades” you make are strictly between you and your cup! \n\n\n\nWhat’s not included\n-cocktails
URL:https://nevadapreservation.org/calendar/sadie-hawkins-sock-hop/
CATEGORIES:Retro Party
ATTACH;FMTTYPE=image/png:https://nevadapreservation.org/wp-content/uploads/2025/12/Screenshot-2025-12-19-at-10.09.59-AM.png
END:VEVENT
END:VCALENDAR